BEGIN:VCALENDAR
VERSION:2.0
PRODID:-//PYVOBJECT//NONSGML Version 0.9.9//EN
X-WR-TIMEZONE:Africa/Johannesburg
BEGIN:VTIMEZONE
TZID:Africa/Johannesburg
BEGIN:STANDARD
DTSTART:20000101T000000
RRULE:FREQ=YEARLY;BYMONTH=1
TZNAME:SAST
TZOFFSETFROM:+0200
TZOFFSETTO:+0200
END:STANDARD
END:VTIMEZONE
BEGIN:VEVENT
UID:20260423T164655Z - 18516@eos-content
DTSTART;TZID=Africa/Johannesburg:20260426T140000
DTEND;TZID=Africa/Johannesburg:20260426T170000
ATTENDEE:MAILTO:elna.myburgh@seeff.com
DESCRIPTION:https://www.seeff.com/results/residential/for-sale/roodepoort/e
 agle-canyon-golf-estate/house/2402768/995-fairfield-lane/\n\nAttend\n\nEln
 a Myburgh (083 253 8443)
DTSTAMP:20260423T164655Z
LOCATION:995 Fairfield Lane\, Eagle Canyon Golf Estate\, Roodepoort
SUMMARY:Seeff Property Group Show Day - RLS980551
END:VEVENT
END:VCALENDAR
