BEGIN:VCALENDAR
VERSION:2.0
PRODID:-//PYVOBJECT//NONSGML Version 0.9.9//EN
X-WR-TIMEZONE:Africa/Johannesburg
BEGIN:VTIMEZONE
TZID:Africa/Johannesburg
BEGIN:STANDARD
DTSTART:20000101T000000
RRULE:FREQ=YEARLY;BYMONTH=1
TZNAME:SAST
TZOFFSETFROM:+0200
TZOFFSETTO:+0200
END:STANDARD
END:VTIMEZONE
BEGIN:VEVENT
UID:20260419T145251Z - 50634@eos-content
DTSTART;TZID=Africa/Johannesburg:20260419T110000
DTEND;TZID=Africa/Johannesburg:20260419T130000
ATTENDEE:MAILTO:fanie.booysen@seeff.com
DESCRIPTION:https://www.seeff.com/results/residential/for-sale/pretoria/gar
 sfontein/townhouse/3034265/\n\nGarsfontein\n\nFanie Booysen (082 332 8007)
DTSTAMP:20260419T145251Z
LOCATION:Garsfontein\, Pretoria
SUMMARY:Seeff Property Group Show Day - RLS996407
END:VEVENT
END:VCALENDAR
