BEGIN:VCALENDAR
VERSION:2.0
PRODID:-//PYVOBJECT//NONSGML Version 0.9.9//EN
X-WR-TIMEZONE:Africa/Johannesburg
BEGIN:VTIMEZONE
TZID:Africa/Johannesburg
BEGIN:STANDARD
DTSTART:20000101T000000
RRULE:FREQ=YEARLY;BYMONTH=1
TZNAME:SAST
TZOFFSETFROM:+0200
TZOFFSETTO:+0200
END:STANDARD
END:VTIMEZONE
BEGIN:VEVENT
UID:20260421T152831Z - 75065@eos-content
DTSTART;TZID=Africa/Johannesburg:20260426T140000
DTEND;TZID=Africa/Johannesburg:20260426T163000
ATTENDEE:MAILTO:kevin.mckune@seeff.com
DESCRIPTION:https://www.seeff.com/results/residential/for-sale/richards-bay
 /meer-en-see/house/3074555/\n\nFollow our boards in Meer en See and visit 
 our show day.\n\nKevin McKune (083 877 5224)
DTSTAMP:20260421T152831Z
LOCATION:Meer En See\, Richards Bay
SUMMARY:Seeff Property Group Show Day - RLS998009
END:VEVENT
END:VCALENDAR
