BEGIN:VCALENDAR
VERSION:2.0
PRODID:-//PYVOBJECT//NONSGML Version 0.9.9//EN
X-WR-TIMEZONE:Africa/Johannesburg
BEGIN:VTIMEZONE
TZID:Africa/Johannesburg
BEGIN:STANDARD
DTSTART:20000101T000000
RRULE:FREQ=YEARLY;BYMONTH=1
TZNAME:SAST
TZOFFSETFROM:+0200
TZOFFSETTO:+0200
END:STANDARD
END:VTIMEZONE
BEGIN:VEVENT
UID:20260425T234609Z - 15686@eos-content
DTSTART;TZID=Africa/Johannesburg:20260426T150000
DTEND;TZID=Africa/Johannesburg:20260426T170000
ATTENDEE:MAILTO:fiona.gaisford@seeff.com
DESCRIPTION:https://www.seeff.com/results/residential/to-let/roodepoort/eag
 le-canyon-golf-estate/apartment/3094420/00-ss-la-bellucia-741-eagle-canyon
 -boulevard/\n\nAttend\n\nFiona Gaisford (082 332 3384)
DTSTAMP:20260425T234609Z
LOCATION:00 SS LA BELLUCIA\, 741 Eagle Canyon Boulevard\, Eagle Canyon Golf
  Estate\, Roodepoort
SUMMARY:Seeff Property Group Show Day - RLS998870
END:VEVENT
END:VCALENDAR
