BEGIN:VCALENDAR
VERSION:2.0
PRODID:-//PYVOBJECT//NONSGML Version 0.9.9//EN
X-WR-TIMEZONE:Africa/Johannesburg
BEGIN:VTIMEZONE
TZID:Africa/Johannesburg
BEGIN:STANDARD
DTSTART:20000101T000000
RRULE:FREQ=YEARLY;BYMONTH=1
TZNAME:SAST
TZOFFSETFROM:+0200
TZOFFSETTO:+0200
END:STANDARD
END:VTIMEZONE
BEGIN:VEVENT
UID:20260420T144243Z - 73680@eos-content
DTSTART;TZID=Africa/Johannesburg:20260426T140000
DTEND;TZID=Africa/Johannesburg:20260426T160000
ATTENDEE:MAILTO:vic.visser@seeff.com
DESCRIPTION:https://www.seeff.com/results/residential/for-sale/roodepoort/f
 lorida-park/freestanding/3096365/\n\nPlease phone agent Vic - 0721266362 -
  for the address.\n\nVic Visser (072 126 6362)
DTSTAMP:20260420T144243Z
LOCATION:Florida Park\, Roodepoort
SUMMARY:Seeff Property Group Show Day - RLS998935
END:VEVENT
END:VCALENDAR
