BEGIN:VCALENDAR
VERSION:2.0
PRODID:-//PYVOBJECT//NONSGML Version 0.9.9//EN
X-WR-TIMEZONE:Africa/Johannesburg
BEGIN:VTIMEZONE
TZID:Africa/Johannesburg
BEGIN:STANDARD
DTSTART:20000101T000000
RRULE:FREQ=YEARLY;BYMONTH=1
TZNAME:SAST
TZOFFSETFROM:+0200
TZOFFSETTO:+0200
END:STANDARD
END:VTIMEZONE
BEGIN:VEVENT
UID:20260421T215236Z - 2190@eos-content
DTSTART;TZID=Africa/Johannesburg:20260425T120000
DTEND;TZID=Africa/Johannesburg:20260425T130000
ATTENDEE:MAILTO:caroline.nixon@seeff.com
DESCRIPTION:https://www.seeff.com/results/residential/for-sale/sandton/dain
 fern/apartment/3105474/\n\nContact our agent for details\n\nCaroline Nixon
  (083 347 2483)
DTSTAMP:20260421T215236Z
LOCATION:Dainfern\, Sandton
SUMMARY:Seeff Property Group Show Day - RLS999213
END:VEVENT
END:VCALENDAR
