BEGIN:VCALENDAR
VERSION:2.0
PRODID:-//PYVOBJECT//NONSGML Version 0.9.9//EN
X-WR-TIMEZONE:Africa/Johannesburg
BEGIN:VTIMEZONE
TZID:Africa/Johannesburg
BEGIN:STANDARD
DTSTART:20000101T000000
RRULE:FREQ=YEARLY;BYMONTH=1
TZNAME:SAST
TZOFFSETFROM:+0200
TZOFFSETTO:+0200
END:STANDARD
END:VTIMEZONE
BEGIN:VEVENT
UID:20260422T213539Z - 2755@eos-content
DTSTART;TZID=Africa/Johannesburg:20260426T110000
DTEND;TZID=Africa/Johannesburg:20260426T140000
ATTENDEE:MAILTO:elaine.haupt@seeff.com
DESCRIPTION:https://www.seeff.com/results/residential/for-sale/centurion/ir
 ene/house/3106636/\n\nOn Show\n\nView by appointment ONLY\n\nElaine Haupt 
 (787067965)
DTSTAMP:20260422T213539Z
LOCATION:Irene\, Centurion
SUMMARY:Seeff Property Group Show Day - RLS999285
END:VEVENT
END:VCALENDAR
