BEGIN:VCALENDAR
VERSION:2.0
PRODID:-//PYVOBJECT//NONSGML Version 0.9.9//EN
X-WR-TIMEZONE:Africa/Johannesburg
BEGIN:VTIMEZONE
TZID:Africa/Johannesburg
BEGIN:STANDARD
DTSTART:20000101T000000
RRULE:FREQ=YEARLY;BYMONTH=1
TZNAME:SAST
TZOFFSETFROM:+0200
TZOFFSETTO:+0200
END:STANDARD
END:VTIMEZONE
BEGIN:VEVENT
UID:20260420T163215Z - 31813@eos-content
DTSTART;TZID=Africa/Johannesburg:20260426T150000
DTEND;TZID=Africa/Johannesburg:20260426T170000
ATTENDEE:MAILTO:sandhurst@seeff.com
ATTENDEE:MAILTO:john.mcfarlane@seeff.com
DESCRIPTION:https://www.seeff.com/results/residential/for-sale/sandton/hyde
 -park/cluster/3124706/\n\nThe cluster will be On Show on Sunday\, 26 April
  2026\, from 3:00 pm to 5:00 pm.\n\nPlease call John on 082 749 2415 to ga
 in access to the cluster complex.\n\nThank John\n\nCorinna Lowry (082 652 
 8891)\n\nJohn Mc Farlane (082 749 2415)
DTSTAMP:20260420T163215Z
LOCATION:Hyde Park\, Sandton
SUMMARY:Seeff Property Group Show Day - RLS1000185
END:VEVENT
END:VCALENDAR
