BEGIN:VCALENDAR
VERSION:2.0
PRODID:-//PYVOBJECT//NONSGML Version 0.9.9//EN
X-WR-TIMEZONE:Africa/Johannesburg
BEGIN:VTIMEZONE
TZID:Africa/Johannesburg
BEGIN:STANDARD
DTSTART:20000101T000000
RRULE:FREQ=YEARLY;BYMONTH=1
TZNAME:SAST
TZOFFSETFROM:+0200
TZOFFSETTO:+0200
END:STANDARD
END:VTIMEZONE
BEGIN:VEVENT
UID:20260421T155307Z - 88332@eos-content
DTSTART;TZID=Africa/Johannesburg:20260424T160000
DTEND;TZID=Africa/Johannesburg:20260424T180000
ATTENDEE:MAILTO:faith.rider@seeff.com
ATTENDEE:MAILTO:elsje.webster@seeff.com
DESCRIPTION:https://www.seeff.com/results/residential/for-sale/strand/twin-
 palms/house/3125552/\n\n25 Constantia Street\nStrand\nTwin Palms\n\nFaith 
 Rider (0833725645)\n\nElsje Webster (083 4877984)
DTSTAMP:20260421T155307Z
LOCATION:Twin Palms\, Strand
SUMMARY:Seeff Property Group Show Day - RLS1000223
END:VEVENT
END:VCALENDAR
