BEGIN:VCALENDAR
VERSION:2.0
PRODID:-//PYVOBJECT//NONSGML Version 0.9.9//EN
X-WR-TIMEZONE:Africa/Johannesburg
BEGIN:VTIMEZONE
TZID:Africa/Johannesburg
BEGIN:STANDARD
DTSTART:20000101T000000
RRULE:FREQ=YEARLY;BYMONTH=1
TZNAME:SAST
TZOFFSETFROM:+0200
TZOFFSETTO:+0200
END:STANDARD
END:VTIMEZONE
BEGIN:VEVENT
UID:20260421T215238Z - 60199@eos-content
DTSTART;TZID=Africa/Johannesburg:20260426T150000
DTEND;TZID=Africa/Johannesburg:20260426T170000
ATTENDEE:MAILTO:tracey.grobbelaar@seeff.com
DESCRIPTION:https://www.seeff.com/results/residential/for-sale/pretoria/era
 smuskloof/townhouse/3125819/\n\nErasmuskloof\n\nTracey Grobbelaar (0769292
 395)
DTSTAMP:20260421T215238Z
LOCATION:Erasmuskloof\, Pretoria
SUMMARY:Seeff Property Group Show Day - RLS1000241
END:VEVENT
END:VCALENDAR
