BEGIN:VCALENDAR
VERSION:2.0
PRODID:-//PYVOBJECT//NONSGML Version 0.9.9//EN
X-WR-TIMEZONE:Africa/Johannesburg
BEGIN:VTIMEZONE
TZID:Africa/Johannesburg
BEGIN:STANDARD
DTSTART:20000101T000000
RRULE:FREQ=YEARLY;BYMONTH=1
TZNAME:SAST
TZOFFSETFROM:+0200
TZOFFSETTO:+0200
END:STANDARD
END:VTIMEZONE
BEGIN:VEVENT
UID:20260420T120304Z - 50771@eos-content
DTSTART;TZID=Africa/Johannesburg:20260426T140000
DTEND;TZID=Africa/Johannesburg:20260426T150000
ATTENDEE:MAILTO:caroline.nixon@seeff.com
ATTENDEE:MAILTO:tony.lowe@seeff.com
DESCRIPTION:https://www.seeff.com/results/residential/for-sale/sandton/beve
 rley/apartment/3141529/\n\nContact agent for details\n\nCaroline Nixon (08
 3 347 2483)\n\nTony Lowe (0832645144)
DTSTAMP:20260420T120304Z
LOCATION:Beverley\, Sandton
SUMMARY:Seeff Property Group Show Day - RLS1000958
END:VEVENT
END:VCALENDAR
