BEGIN:VCALENDAR
VERSION:2.0
PRODID:-//PYVOBJECT//NONSGML Version 0.9.9//EN
X-WR-TIMEZONE:Africa/Johannesburg
BEGIN:VTIMEZONE
TZID:Africa/Johannesburg
BEGIN:STANDARD
DTSTART:20000101T000000
RRULE:FREQ=YEARLY;BYMONTH=1
TZNAME:SAST
TZOFFSETFROM:+0200
TZOFFSETTO:+0200
END:STANDARD
END:VTIMEZONE
BEGIN:VEVENT
UID:20260422T031401Z - 19834@eos-content
DTSTART;TZID=Africa/Johannesburg:20260426T150000
DTEND;TZID=Africa/Johannesburg:20260426T170000
ATTENDEE:MAILTO:sandra.ayuk@seeff.com
DESCRIPTION:https://www.seeff.com/results/residential/for-sale/johannesburg
 /greenside/freehold/3146178/\n\nhttps://maps.app.goo.gl/Bxiro65jx1zvcfx16\
 n\nSandra Ayuk (0748489175)
DTSTAMP:20260422T031401Z
LOCATION:Greenside\, Johannesburg
SUMMARY:Seeff Property Group Show Day - RLS1001208
END:VEVENT
END:VCALENDAR
