BEGIN:VCALENDAR
VERSION:2.0
PRODID:-//PYVOBJECT//NONSGML Version 0.9.9//EN
X-WR-TIMEZONE:Africa/Johannesburg
BEGIN:VTIMEZONE
TZID:Africa/Johannesburg
BEGIN:STANDARD
DTSTART:20000101T000000
RRULE:FREQ=YEARLY;BYMONTH=1
TZNAME:SAST
TZOFFSETFROM:+0200
TZOFFSETTO:+0200
END:STANDARD
END:VTIMEZONE
BEGIN:VEVENT
UID:20260422T134912Z - 91373@eos-content
DTSTART;TZID=Africa/Johannesburg:20260424T160000
DTEND;TZID=Africa/Johannesburg:20260424T170000
ATTENDEE:MAILTO:hilary@seeff.com
ATTENDEE:MAILTO:lolly.unterslak@seeff.com
DESCRIPTION:https://www.seeff.com/results/residential/for-sale/cape-town/se
 a-point/apartment/3148876/\n\nContact the agent/s for directions & access.
 \n\nHilary Biccari (083 251 2233)\n\nLolly Unterslak (082 452 0905)
DTSTAMP:20260422T134912Z
LOCATION:Sea Point\, Cape Town
SUMMARY:Seeff Property Group Show Day - RLS1001316
END:VEVENT
END:VCALENDAR
